BEGIN:VCALENDAR
VERSION:2.0
PRODID:-//wp-events-plugin.com//7.2.3.1//EN
BEGIN:VEVENT
UID:47@ye-ev.de
DTSTART:20240324T094500Z
DTEND:20240324T160000Z
DTSTAMP:20240322T192639Z
URL:https://ye-ev.de/events/ferienausflug-in-der-zeche-zollern-in-dortmund
 /
SUMMARY:Ferienausflug in der Zeche-Zollern in Dortmund
DESCRIPTION:
ATTACH;FMTTYPE=image/jpeg:https://ye-ev.de/wp-content/uploads/2024/03/What
 sApp-Bild-2024-03-22-um-11.46.21_ef3cc9d0-jpg.webp
LOCATION:Hauptbahnhof vor dem Kino Cinestar\, Steinstraße 44\, Dortmund\, 
 Deutschland
X-APPLE-STRUCTURED-LOCATION;VALUE=URI;X-ADDRESS=Steinstraße 44\, Dortmund\
 , Deutschland;X-APPLE-RADIUS=100;X-TITLE=Hauptbahnhof vor dem Kino Cinesta
 r:geo:0,0
END:VEVENT
END:VCALENDAR